BEGIN:VCALENDAR
VERSION:2.0
PRODID:-//Hutt Valley Runners - ECPv6.15.11//NONSGML v1.0//EN
CALSCALE:GREGORIAN
METHOD:PUBLISH
X-ORIGINAL-URL:https://huttvalleyrunners.nz
X-WR-CALDESC:Events for Hutt Valley Runners
REFRESH-INTERVAL;VALUE=DURATION:PT1H
X-Robots-Tag:noindex
X-PUBLISHED-TTL:PT1H
BEGIN:VTIMEZONE
TZID:Pacific/Auckland
BEGIN:STANDARD
TZOFFSETFROM:+1300
TZOFFSETTO:+1200
TZNAME:NZST
DTSTART:20250405T140000
END:STANDARD
BEGIN:DAYLIGHT
TZOFFSETFROM:+1200
TZOFFSETTO:+1300
TZNAME:NZDT
DTSTART:20250927T140000
END:DAYLIGHT
BEGIN:STANDARD
TZOFFSETFROM:+1300
TZOFFSETTO:+1200
TZNAME:NZST
DTSTART:20260404T140000
END:STANDARD
BEGIN:DAYLIGHT
TZOFFSETFROM:+1200
TZOFFSETTO:+1300
TZNAME:NZDT
DTSTART:20260926T140000
END:DAYLIGHT
BEGIN:STANDARD
TZOFFSETFROM:+1300
TZOFFSETTO:+1200
TZNAME:NZST
DTSTART:20270403T140000
END:STANDARD
BEGIN:DAYLIGHT
TZOFFSETFROM:+1200
TZOFFSETTO:+1300
TZNAME:NZDT
DTSTART:20270925T140000
END:DAYLIGHT
END:VTIMEZONE
BEGIN:VEVENT
DTSTART;TZID=Pacific/Auckland:20260517T080000
DTEND;TZID=Pacific/Auckland:20260517T110000
DTSTAMP:20260421T051141
CREATED:20230420T200054Z
LAST-MODIFIED:20260405T055625Z
UID:526-1779004800-1779015600@huttvalleyrunners.nz
SUMMARY:Mill Stream
DESCRIPTION:Local long run training \n \n\n  \nView Route Details \n  \n\nCreate routes or search for a route at MapMyFitness. \n\n\n \n\n  \nView Route Details \n  \n\nCreate routes or search for a route at MapMyFitness.
URL:https://huttvalleyrunners.nz/event/mill-stream/
LOCATION:Huia Pool+Fitness\, Huia Street\, Lower Hutt\, 6009\, New Zealand
CATEGORIES:Training
ATTACH;FMTTYPE=image/jpeg:https://huttvalleyrunners.nz/wp-content/uploads/2023/01/3B0981E1-C1EF-4328-9AB6-2B2CF6A7D333_1_201_a.jpeg
END:VEVENT
BEGIN:VEVENT
DTSTART;TZID=Pacific/Auckland:20260531T080000
DTEND;TZID=Pacific/Auckland:20260531T110000
DTSTAMP:20260421T051141
CREATED:20230108T084433Z
LAST-MODIFIED:20260405T055801Z
UID:570-1780214400-1780225200@huttvalleyrunners.nz
SUMMARY:Sweetacres
DESCRIPTION:Long local training run \n \n\n  \nView Route Details \n  \n\nCreate routes or search for a route at MapMyRun. \n\n\n \n\n  \nView Route Details \n  \n\nCreate routes or search for a route at MapMyRun.
URL:https://huttvalleyrunners.nz/event/sweetacres/
LOCATION:Huia Pool+Fitness\, Huia Street\, Lower Hutt\, 6009\, New Zealand
CATEGORIES:Training
ATTACH;FMTTYPE=image/jpeg:https://huttvalleyrunners.nz/wp-content/uploads/2023/01/ADEA270D-4CFD-4B18-991D-FCC1292F01C4_1_201_a.jpeg
END:VEVENT
BEGIN:VEVENT
DTSTART;TZID=Pacific/Auckland:20260607T083000
DTEND;TZID=Pacific/Auckland:20260607T123000
DTSTAMP:20260421T051141
CREATED:20211123T161500Z
LAST-MODIFIED:20260302T062702Z
UID:52-1780821000-1780835400@huttvalleyrunners.nz
SUMMARY:Whitemans Valley
DESCRIPTION:Meeting at Huia Pool at 8am\, to car share to the Fig Tree Cafe for 8:30am. From there shuttle transport will take us to the start. There will be a chance to socialise in the Fig Tree Cafe afterwards. \nBook your place on the shuttle for the 17km distance option. \n\n                    Whitemans Valley Shuttle Bus Booking FormOne seat on the shuttle busPrice: $20.00First NameLast NameEmailPurchase         \n        \n﻿﻿ \n\n \nView Route Details \n  \n\nCreate routes or search for a route at MapMyRun. \n﻿ \n\n﻿ \n  \n  \n  \n\n \n \n\n \nView Route Details \n  \n\nCreate routes or search for a route at MapMyRun. \n\n\n﻿ \n﻿ \n  \n﻿ \n  \n  \n  \n  \n  \n  \n  \n  \n  \n  \n  \n  \n  \n \n 
URL:https://huttvalleyrunners.nz/event/whitemans-valley/
LOCATION:Fig Tree Cafe\, 386 Fergusson Drive\, Heretaunga\, 5018\, New Zealand
CATEGORIES:Away Run,Featured
ATTACH;FMTTYPE=image/jpeg:https://huttvalleyrunners.nz/wp-content/uploads/2021/11/whitemans-e1670288416201.jpg
END:VEVENT
BEGIN:VEVENT
DTSTART;TZID=Pacific/Auckland:20260705T084500
DTEND;TZID=Pacific/Auckland:20260705T120000
DTSTAMP:20260421T051141
CREATED:20221205T221252Z
LAST-MODIFIED:20260302T064700Z
UID:152-1783241100-1783252800@huttvalleyrunners.nz
SUMMARY:Pāutahanui Inlet
DESCRIPTION:Meet at 8:00am at Huia Pool to car share\, or meet us at Lavender Spa for an 8:45am start. Head through the metropolis of Whitby we round the inlet at Paremata bridge and return on the boardwalk. Coffee at cake at the Ground Up cafe afterwards. \n \n\n \nView Route Details \n  \n\nCreate routes or search for a route at MapMyRun. \n\n\n﻿ \n  \n  \n  \n  \n  \n  \n  \n  \n  \n  \n  \n  \n  \n  \n  \n  \n 
URL:https://huttvalleyrunners.nz/event/pautahanui-inlet/
LOCATION:Lavender Spa\, 470 Paremata Road\, Porirua\, Auckland\, 5381\, New Zealand
CATEGORIES:Away Run,Featured
ATTACH;FMTTYPE=image/jpeg:https://huttvalleyrunners.nz/wp-content/uploads/2022/12/Te-Ara-Piko-Walkway-Plimmerton-Club1-e1670290783469.jpg
END:VEVENT
BEGIN:VEVENT
DTSTART;TZID=Pacific/Auckland:20260802T084500
DTEND;TZID=Pacific/Auckland:20260802T130000
DTSTAMP:20260421T051141
CREATED:20221206T090935Z
LAST-MODIFIED:20260302T065200Z
UID:285-1785660300-1785675600@huttvalleyrunners.nz
SUMMARY:Remutaka Reverse
DESCRIPTION:Bus to the Wairarapa and run back to Kaitoke. From Cross Creek it is steady 7km climb to the summit tunnel (a head torch is a good idea)\, then a gentle 10km all the way down to the car park at Kaitoke for a BBQ breakfast. Book now to secure your place on the bus. \n\n                    Remutaka Reverse Shuttle Bus Booking Form (#9)One seat on the shuttle bus (plus BBQ breakfast)Price: $30.00First NameLast NameEmailPurchase         \n        \n \n\n \nView Route Details \n  \n\nCreate routes or search for a route at MapMyRun. \n\n\n﻿ \n  \n  \n  \n  \n  \n  \n  \n  \n  \n  \n  \n  \n  \n  \n  \n  \n  \n  \n  \n  \n  \n  \n  \n  \n  \n 
URL:https://huttvalleyrunners.nz/event/rimutaka-reverse/
LOCATION:Kaitoke Summit Road car park\, Kaitoke Summit Road\, Upper Hutt\, 5018\, New Zealand
CATEGORIES:Away Run,Featured
ATTACH;FMTTYPE=image/webp:https://huttvalleyrunners.nz/wp-content/uploads/2022/12/Remutaka-Rail-Trail.webp
END:VEVENT
BEGIN:VEVENT
DTSTART;TZID=Pacific/Auckland:20260925T090000
DTEND;TZID=Pacific/Auckland:20260927T153000
DTSTAMP:20260421T051141
CREATED:20221206T032322Z
LAST-MODIFIED:20260123T075800Z
UID:219-1790326800-1790523000@huttvalleyrunners.nz
SUMMARY:Blue Lake 24hr Challenge
DESCRIPTION:A 'Big Away Run'. Join Hutt Valley Runners for a weekend away cracking in to this self-supported (up to) 24hr run around the Blue Lake in Rotorua. How many laps can you do?! \nWe'll be staying in the fabulous Southstar Evergreen lodge in Lynmore\, which is less than one Def Leppard song away from the Blue Lake. Including all travel\, accommodation and food\, it's great value\, costing just $400 per person: \n\n2 nights accommodation at Southstar Evergreen lodge\nReturn minibus travel\nFull catered whilst in Rotorua: Dinner (x2)\, breakfast (x2) and lunch (x1)\nEntry in to the Blue Lake 24hr Challenge is free\n\n\n                    Registration Blue Lake (#14)Bank transfer per person: 38-9010-0232682-00Price: $400.00First NameLast NameEmailPurchase         \n        \nItinerary\nFriday\n09:00 Depart Lower Hutt \n15:30 Arrive in Rotorua \n18:00 Dinner at Southstar Evergreen lodge \nSaturday\n06:30 Breakfast \n07:30 Whiteboard and go... \n18:00 Dinner at Southstar Evergreen lodge \nSunday\n08:00 Breakfast \n09:00 Depart Rotorua \n15:30 Arrive home
URL:https://huttvalleyrunners.nz/event/blue-lake-24hr-challenge/
LOCATION:Lake Tikitapu\, Tarawera Road\, Lake Okareka\, Rotorua\, 3076\, New Zealand
CATEGORIES:Away Run,Event,Featured
ATTACH;FMTTYPE=image/jpeg:https://huttvalleyrunners.nz/wp-content/uploads/2022/12/BlueLake.jpg
END:VEVENT
END:VCALENDAR